BEGIN:VCALENDAR
VERSION:2.0
PRODID:-//Local 23 - ECPv6.15.18//NONSGML v1.0//EN
CALSCALE:GREGORIAN
METHOD:PUBLISH
X-WR-CALNAME:Local 23
X-ORIGINAL-URL:https://iueclocal23.org
X-WR-CALDESC:Events for Local 23
REFRESH-INTERVAL;VALUE=DURATION:PT1H
X-Robots-Tag:noindex
X-PUBLISHED-TTL:PT1H
BEGIN:VTIMEZONE
TZID:UTC
BEGIN:STANDARD
TZOFFSETFROM:+0000
TZOFFSETTO:+0000
TZNAME:UTC
DTSTART:20250101T000000
END:STANDARD
END:VTIMEZONE
BEGIN:VEVENT
DTSTART;TZID=UTC:20260409T180000
DTEND;TZID=UTC:20260409T200000
DTSTAMP:20260421T203307
CREATED:20251010T220340Z
LAST-MODIFIED:20251010T220340Z
UID:4667-1775757600-1775764800@iueclocal23.org
SUMMARY:Union Meeting
DESCRIPTION:
URL:https://iueclocal23.org/event/union-meeting-2/2026-04-09/
LOCATION:Local 23\, 11145 NE Sandy Blvd.\, Portland\, OR\, 97220\, United States
CATEGORIES:default
GEO:45.5587853;-122.5482604
X-APPLE-STRUCTURED-LOCATION;VALUE=URI;X-ADDRESS=Local 23 11145 NE Sandy Blvd. Portland OR 97220 United States;X-APPLE-RADIUS=500;X-TITLE=11145 NE Sandy Blvd.:geo:-122.5482604,45.5587853
END:VEVENT
BEGIN:VEVENT
DTSTART;VALUE=DATE:20260428
DTEND;VALUE=DATE:20260501
DTSTAMP:20260421T203307
CREATED:20251121T123557Z
LAST-MODIFIED:20251121T123557Z
UID:4800-1777359600-1777532399@iueclocal23.org
SUMMARY:IUEC Global Safety Summit
DESCRIPTION:
URL:https://iueclocal23.org/event/iuec-global-safety-summit/
CATEGORIES:default
END:VEVENT
BEGIN:VEVENT
DTSTART;TZID=UTC:20260507T170000
DTEND;TZID=UTC:20260507T180000
DTSTAMP:20260421T203307
CREATED:20251010T215104Z
LAST-MODIFIED:20251010T215104Z
UID:4885-1778173200-1778176800@iueclocal23.org
SUMMARY:Executive Board Meeting
DESCRIPTION:
URL:https://iueclocal23.org/event/executive-board-meeting-2025-11-13/2026-05-07/
LOCATION:Local 23\, 11145 NE Sandy Blvd.\, Portland\, OR\, 97220\, United States
GEO:45.5587853;-122.5482604
X-APPLE-STRUCTURED-LOCATION;VALUE=URI;X-ADDRESS=Local 23 11145 NE Sandy Blvd. Portland OR 97220 United States;X-APPLE-RADIUS=500;X-TITLE=11145 NE Sandy Blvd.:geo:-122.5482604,45.5587853
END:VEVENT
BEGIN:VEVENT
DTSTART;TZID=UTC:20260514T180000
DTEND;TZID=UTC:20260514T200000
DTSTAMP:20260421T203307
CREATED:20251010T220340Z
LAST-MODIFIED:20251010T220340Z
UID:4668-1778781600-1778788800@iueclocal23.org
SUMMARY:Union Meeting
DESCRIPTION:
URL:https://iueclocal23.org/event/union-meeting-2/2026-05-14/
LOCATION:Local 23\, 11145 NE Sandy Blvd.\, Portland\, OR\, 97220\, United States
CATEGORIES:default
GEO:45.5587853;-122.5482604
X-APPLE-STRUCTURED-LOCATION;VALUE=URI;X-ADDRESS=Local 23 11145 NE Sandy Blvd. Portland OR 97220 United States;X-APPLE-RADIUS=500;X-TITLE=11145 NE Sandy Blvd.:geo:-122.5482604,45.5587853
END:VEVENT
BEGIN:VEVENT
DTSTART;TZID=UTC:20260604T170000
DTEND;TZID=UTC:20260604T180000
DTSTAMP:20260421T203307
CREATED:20251010T215104Z
LAST-MODIFIED:20251010T215104Z
UID:4886-1780592400-1780596000@iueclocal23.org
SUMMARY:Executive Board Meeting
DESCRIPTION:
URL:https://iueclocal23.org/event/executive-board-meeting-2025-11-13/2026-06-04/
LOCATION:Local 23\, 11145 NE Sandy Blvd.\, Portland\, OR\, 97220\, United States
GEO:45.5587853;-122.5482604
X-APPLE-STRUCTURED-LOCATION;VALUE=URI;X-ADDRESS=Local 23 11145 NE Sandy Blvd. Portland OR 97220 United States;X-APPLE-RADIUS=500;X-TITLE=11145 NE Sandy Blvd.:geo:-122.5482604,45.5587853
END:VEVENT
BEGIN:VEVENT
DTSTART;TZID=UTC:20260611T180000
DTEND;TZID=UTC:20260611T200000
DTSTAMP:20260421T203307
CREATED:20251010T220339Z
LAST-MODIFIED:20251010T220339Z
UID:4669-1781200800-1781208000@iueclocal23.org
SUMMARY:Union Meeting
DESCRIPTION:
URL:https://iueclocal23.org/event/union-meeting-2/2026-06-11/
LOCATION:Local 23\, 11145 NE Sandy Blvd.\, Portland\, OR\, 97220\, United States
CATEGORIES:default
GEO:45.5587853;-122.5482604
X-APPLE-STRUCTURED-LOCATION;VALUE=URI;X-ADDRESS=Local 23 11145 NE Sandy Blvd. Portland OR 97220 United States;X-APPLE-RADIUS=500;X-TITLE=11145 NE Sandy Blvd.:geo:-122.5482604,45.5587853
END:VEVENT
BEGIN:VEVENT
DTSTART;TZID=UTC:20260702T170000
DTEND;TZID=UTC:20260702T180000
DTSTAMP:20260421T203307
CREATED:20251010T215104Z
LAST-MODIFIED:20251010T215104Z
UID:4887-1783011600-1783015200@iueclocal23.org
SUMMARY:Executive Board Meeting
DESCRIPTION:
URL:https://iueclocal23.org/event/executive-board-meeting-2025-11-13/2026-07-02/
LOCATION:Local 23\, 11145 NE Sandy Blvd.\, Portland\, OR\, 97220\, United States
GEO:45.5587853;-122.5482604
X-APPLE-STRUCTURED-LOCATION;VALUE=URI;X-ADDRESS=Local 23 11145 NE Sandy Blvd. Portland OR 97220 United States;X-APPLE-RADIUS=500;X-TITLE=11145 NE Sandy Blvd.:geo:-122.5482604,45.5587853
END:VEVENT
BEGIN:VEVENT
DTSTART;TZID=UTC:20260709T180000
DTEND;TZID=UTC:20260709T200000
DTSTAMP:20260421T203307
CREATED:20251010T220339Z
LAST-MODIFIED:20251010T220339Z
UID:4670-1783620000-1783627200@iueclocal23.org
SUMMARY:Union Meeting
DESCRIPTION:
URL:https://iueclocal23.org/event/union-meeting-2/2026-07-09/
LOCATION:Local 23\, 11145 NE Sandy Blvd.\, Portland\, OR\, 97220\, United States
CATEGORIES:default
GEO:45.5587853;-122.5482604
X-APPLE-STRUCTURED-LOCATION;VALUE=URI;X-ADDRESS=Local 23 11145 NE Sandy Blvd. Portland OR 97220 United States;X-APPLE-RADIUS=500;X-TITLE=11145 NE Sandy Blvd.:geo:-122.5482604,45.5587853
END:VEVENT
BEGIN:VEVENT
DTSTART;TZID=UTC:20260718T120000
DTEND;TZID=UTC:20260718T130000
DTSTAMP:20260421T203307
CREATED:20251010T220339Z
LAST-MODIFIED:20251010T220339Z
UID:4468-1784376000-1784379600@iueclocal23.org
SUMMARY:Local 23 Picnic
DESCRIPTION:
URL:https://iueclocal23.org/event/local-23-picnic/
LOCATION:Local 23\, 11145 NE Sandy Blvd.\, Portland\, OR\, 97220\, United States
GEO:45.5587853;-122.5482604
X-APPLE-STRUCTURED-LOCATION;VALUE=URI;X-ADDRESS=Local 23 11145 NE Sandy Blvd. Portland OR 97220 United States;X-APPLE-RADIUS=500;X-TITLE=11145 NE Sandy Blvd.:geo:-122.5482604,45.5587853
END:VEVENT
BEGIN:VEVENT
DTSTART;TZID=UTC:20260806T170000
DTEND;TZID=UTC:20260806T180000
DTSTAMP:20260421T203307
CREATED:20251010T215104Z
LAST-MODIFIED:20251010T215104Z
UID:4888-1786035600-1786039200@iueclocal23.org
SUMMARY:Executive Board Meeting
DESCRIPTION:
URL:https://iueclocal23.org/event/executive-board-meeting-2025-11-13/2026-08-06/
LOCATION:Local 23\, 11145 NE Sandy Blvd.\, Portland\, OR\, 97220\, United States
GEO:45.5587853;-122.5482604
X-APPLE-STRUCTURED-LOCATION;VALUE=URI;X-ADDRESS=Local 23 11145 NE Sandy Blvd. Portland OR 97220 United States;X-APPLE-RADIUS=500;X-TITLE=11145 NE Sandy Blvd.:geo:-122.5482604,45.5587853
END:VEVENT
BEGIN:VEVENT
DTSTART;TZID=UTC:20260813T180000
DTEND;TZID=UTC:20260813T200000
DTSTAMP:20260421T203307
CREATED:20251010T220339Z
LAST-MODIFIED:20251010T220339Z
UID:4671-1786644000-1786651200@iueclocal23.org
SUMMARY:Union Meeting
DESCRIPTION:
URL:https://iueclocal23.org/event/union-meeting-2/2026-08-13/
LOCATION:Local 23\, 11145 NE Sandy Blvd.\, Portland\, OR\, 97220\, United States
CATEGORIES:default
GEO:45.5587853;-122.5482604
X-APPLE-STRUCTURED-LOCATION;VALUE=URI;X-ADDRESS=Local 23 11145 NE Sandy Blvd. Portland OR 97220 United States;X-APPLE-RADIUS=500;X-TITLE=11145 NE Sandy Blvd.:geo:-122.5482604,45.5587853
END:VEVENT
BEGIN:VEVENT
DTSTART;TZID=UTC:20260815T063000
DTEND;TZID=UTC:20260815T190000
DTSTAMP:20260421T203307
CREATED:20250918T001758Z
LAST-MODIFIED:20251010T220339Z
UID:4473-1786775400-1786820400@iueclocal23.org
SUMMARY:Local 23 Charity Golf Tournament
DESCRIPTION:
URL:https://iueclocal23.org/event/local-23-charity-golf-tournament/
LOCATION:Stone Creek Golf Club\, 14603 S Stoneridge Dr\, Oregon City\, OR 97045\, United States
GEO:45.2977254;-122.5633722
X-APPLE-STRUCTURED-LOCATION;VALUE=URI;X-ADDRESS=Stone Creek Golf Club 14603 S Stoneridge Dr Oregon City OR 97045 United States;X-APPLE-RADIUS=500;X-TITLE=14603 S Stoneridge Dr:geo:-122.5633722,45.2977254
END:VEVENT
BEGIN:VEVENT
DTSTART;TZID=UTC:20260903T170000
DTEND;TZID=UTC:20260903T180000
DTSTAMP:20260421T203307
CREATED:20251010T215104Z
LAST-MODIFIED:20251010T215104Z
UID:4889-1788454800-1788458400@iueclocal23.org
SUMMARY:Executive Board Meeting
DESCRIPTION:
URL:https://iueclocal23.org/event/executive-board-meeting-2025-11-13/2026-09-03/
LOCATION:Local 23\, 11145 NE Sandy Blvd.\, Portland\, OR\, 97220\, United States
GEO:45.5587853;-122.5482604
X-APPLE-STRUCTURED-LOCATION;VALUE=URI;X-ADDRESS=Local 23 11145 NE Sandy Blvd. Portland OR 97220 United States;X-APPLE-RADIUS=500;X-TITLE=11145 NE Sandy Blvd.:geo:-122.5482604,45.5587853
END:VEVENT
BEGIN:VEVENT
DTSTART;TZID=UTC:20260910T180000
DTEND;TZID=UTC:20260910T200000
DTSTAMP:20260421T203307
CREATED:20251010T220338Z
LAST-MODIFIED:20251010T220338Z
UID:4672-1789063200-1789070400@iueclocal23.org
SUMMARY:Union Meeting
DESCRIPTION:
URL:https://iueclocal23.org/event/union-meeting-2/2026-09-10/
LOCATION:Local 23\, 11145 NE Sandy Blvd.\, Portland\, OR\, 97220\, United States
CATEGORIES:default
GEO:45.5587853;-122.5482604
X-APPLE-STRUCTURED-LOCATION;VALUE=URI;X-ADDRESS=Local 23 11145 NE Sandy Blvd. Portland OR 97220 United States;X-APPLE-RADIUS=500;X-TITLE=11145 NE Sandy Blvd.:geo:-122.5482604,45.5587853
END:VEVENT
BEGIN:VEVENT
DTSTART;TZID=UTC:20261001T170000
DTEND;TZID=UTC:20261001T180000
DTSTAMP:20260421T203307
CREATED:20251010T215104Z
LAST-MODIFIED:20251010T215104Z
UID:4890-1790874000-1790877600@iueclocal23.org
SUMMARY:Executive Board Meeting
DESCRIPTION:
URL:https://iueclocal23.org/event/executive-board-meeting-2025-11-13/2026-10-01/
LOCATION:Local 23\, 11145 NE Sandy Blvd.\, Portland\, OR\, 97220\, United States
GEO:45.5587853;-122.5482604
X-APPLE-STRUCTURED-LOCATION;VALUE=URI;X-ADDRESS=Local 23 11145 NE Sandy Blvd. Portland OR 97220 United States;X-APPLE-RADIUS=500;X-TITLE=11145 NE Sandy Blvd.:geo:-122.5482604,45.5587853
END:VEVENT
BEGIN:VEVENT
DTSTART;TZID=UTC:20261008T180000
DTEND;TZID=UTC:20261008T200000
DTSTAMP:20260421T203307
CREATED:20251010T220338Z
LAST-MODIFIED:20251010T220338Z
UID:4674-1791482400-1791489600@iueclocal23.org
SUMMARY:Union Meeting
DESCRIPTION:
URL:https://iueclocal23.org/event/union-meeting-2/2026-10-08/
LOCATION:Local 23\, 11145 NE Sandy Blvd.\, Portland\, OR\, 97220\, United States
CATEGORIES:default
GEO:45.5587853;-122.5482604
X-APPLE-STRUCTURED-LOCATION;VALUE=URI;X-ADDRESS=Local 23 11145 NE Sandy Blvd. Portland OR 97220 United States;X-APPLE-RADIUS=500;X-TITLE=11145 NE Sandy Blvd.:geo:-122.5482604,45.5587853
END:VEVENT
BEGIN:VEVENT
DTSTART;TZID=UTC:20261105T170000
DTEND;TZID=UTC:20261105T180000
DTSTAMP:20260421T203307
CREATED:20251010T215104Z
LAST-MODIFIED:20251010T215104Z
UID:4891-1793898000-1793901600@iueclocal23.org
SUMMARY:Executive Board Meeting
DESCRIPTION:
URL:https://iueclocal23.org/event/executive-board-meeting-2025-11-13/2026-11-05/
LOCATION:Local 23\, 11145 NE Sandy Blvd.\, Portland\, OR\, 97220\, United States
GEO:45.5587853;-122.5482604
X-APPLE-STRUCTURED-LOCATION;VALUE=URI;X-ADDRESS=Local 23 11145 NE Sandy Blvd. Portland OR 97220 United States;X-APPLE-RADIUS=500;X-TITLE=11145 NE Sandy Blvd.:geo:-122.5482604,45.5587853
END:VEVENT
BEGIN:VEVENT
DTSTART;TZID=UTC:20261112T180000
DTEND;TZID=UTC:20261112T200000
DTSTAMP:20260421T203307
CREATED:20251010T220338Z
LAST-MODIFIED:20251010T220338Z
UID:4675-1794506400-1794513600@iueclocal23.org
SUMMARY:Union Meeting
DESCRIPTION:
URL:https://iueclocal23.org/event/union-meeting-2/2026-11-12/
LOCATION:Local 23\, 11145 NE Sandy Blvd.\, Portland\, OR\, 97220\, United States
CATEGORIES:default
GEO:45.5587853;-122.5482604
X-APPLE-STRUCTURED-LOCATION;VALUE=URI;X-ADDRESS=Local 23 11145 NE Sandy Blvd. Portland OR 97220 United States;X-APPLE-RADIUS=500;X-TITLE=11145 NE Sandy Blvd.:geo:-122.5482604,45.5587853
END:VEVENT
BEGIN:VEVENT
DTSTART;TZID=UTC:20261203T170000
DTEND;TZID=UTC:20261203T180000
DTSTAMP:20260421T203307
CREATED:20251010T215104Z
LAST-MODIFIED:20251010T215104Z
UID:4892-1796317200-1796320800@iueclocal23.org
SUMMARY:Executive Board Meeting
DESCRIPTION:
URL:https://iueclocal23.org/event/executive-board-meeting-2025-11-13/2026-12-03/
LOCATION:Local 23\, 11145 NE Sandy Blvd.\, Portland\, OR\, 97220\, United States
GEO:45.5587853;-122.5482604
X-APPLE-STRUCTURED-LOCATION;VALUE=URI;X-ADDRESS=Local 23 11145 NE Sandy Blvd. Portland OR 97220 United States;X-APPLE-RADIUS=500;X-TITLE=11145 NE Sandy Blvd.:geo:-122.5482604,45.5587853
END:VEVENT
BEGIN:VEVENT
DTSTART;TZID=UTC:20261210T180000
DTEND;TZID=UTC:20261210T200000
DTSTAMP:20260421T203307
CREATED:20251010T220234Z
LAST-MODIFIED:20251010T220234Z
UID:4676-1796925600-1796932800@iueclocal23.org
SUMMARY:Union Meeting
DESCRIPTION:
URL:https://iueclocal23.org/event/union-meeting-2/2026-12-10/
LOCATION:Local 23\, 11145 NE Sandy Blvd.\, Portland\, OR\, 97220\, United States
CATEGORIES:default
GEO:45.5587853;-122.5482604
X-APPLE-STRUCTURED-LOCATION;VALUE=URI;X-ADDRESS=Local 23 11145 NE Sandy Blvd. Portland OR 97220 United States;X-APPLE-RADIUS=500;X-TITLE=11145 NE Sandy Blvd.:geo:-122.5482604,45.5587853
END:VEVENT
BEGIN:VEVENT
DTSTART;TZID=UTC:20270107T170000
DTEND;TZID=UTC:20270107T180000
DTSTAMP:20260421T203307
CREATED:20251010T215104Z
LAST-MODIFIED:20251010T215104Z
UID:4893-1799341200-1799344800@iueclocal23.org
SUMMARY:Executive Board Meeting
DESCRIPTION:
URL:https://iueclocal23.org/event/executive-board-meeting-2025-11-13/2027-01-07/
LOCATION:Local 23\, 11145 NE Sandy Blvd.\, Portland\, OR\, 97220\, United States
GEO:45.5587853;-122.5482604
X-APPLE-STRUCTURED-LOCATION;VALUE=URI;X-ADDRESS=Local 23 11145 NE Sandy Blvd. Portland OR 97220 United States;X-APPLE-RADIUS=500;X-TITLE=11145 NE Sandy Blvd.:geo:-122.5482604,45.5587853
END:VEVENT
BEGIN:VEVENT
DTSTART;TZID=UTC:20270114T180000
DTEND;TZID=UTC:20270114T200000
DTSTAMP:20260421T203307
CREATED:20251010T220234Z
LAST-MODIFIED:20251010T220234Z
UID:4677-1799949600-1799956800@iueclocal23.org
SUMMARY:Union Meeting
DESCRIPTION:
URL:https://iueclocal23.org/event/union-meeting-2/2027-01-14/
LOCATION:Local 23\, 11145 NE Sandy Blvd.\, Portland\, OR\, 97220\, United States
CATEGORIES:default
GEO:45.5587853;-122.5482604
X-APPLE-STRUCTURED-LOCATION;VALUE=URI;X-ADDRESS=Local 23 11145 NE Sandy Blvd. Portland OR 97220 United States;X-APPLE-RADIUS=500;X-TITLE=11145 NE Sandy Blvd.:geo:-122.5482604,45.5587853
END:VEVENT
BEGIN:VEVENT
DTSTART;TZID=UTC:20270204T170000
DTEND;TZID=UTC:20270204T180000
DTSTAMP:20260421T203307
CREATED:20251010T215104Z
LAST-MODIFIED:20251010T215104Z
UID:4894-1801760400-1801764000@iueclocal23.org
SUMMARY:Executive Board Meeting
DESCRIPTION:
URL:https://iueclocal23.org/event/executive-board-meeting-2025-11-13/2027-02-04/
LOCATION:Local 23\, 11145 NE Sandy Blvd.\, Portland\, OR\, 97220\, United States
GEO:45.5587853;-122.5482604
X-APPLE-STRUCTURED-LOCATION;VALUE=URI;X-ADDRESS=Local 23 11145 NE Sandy Blvd. Portland OR 97220 United States;X-APPLE-RADIUS=500;X-TITLE=11145 NE Sandy Blvd.:geo:-122.5482604,45.5587853
END:VEVENT
BEGIN:VEVENT
DTSTART;TZID=UTC:20270211T180000
DTEND;TZID=UTC:20270211T200000
DTSTAMP:20260421T203307
CREATED:20251010T220234Z
LAST-MODIFIED:20251010T220234Z
UID:4678-1802368800-1802376000@iueclocal23.org
SUMMARY:Union Meeting
DESCRIPTION:
URL:https://iueclocal23.org/event/union-meeting-2/2027-02-11/
LOCATION:Local 23\, 11145 NE Sandy Blvd.\, Portland\, OR\, 97220\, United States
CATEGORIES:default
GEO:45.5587853;-122.5482604
X-APPLE-STRUCTURED-LOCATION;VALUE=URI;X-ADDRESS=Local 23 11145 NE Sandy Blvd. Portland OR 97220 United States;X-APPLE-RADIUS=500;X-TITLE=11145 NE Sandy Blvd.:geo:-122.5482604,45.5587853
END:VEVENT
BEGIN:VEVENT
DTSTART;TZID=UTC:20270304T170000
DTEND;TZID=UTC:20270304T180000
DTSTAMP:20260421T203307
CREATED:20251010T215104Z
LAST-MODIFIED:20251010T215104Z
UID:4895-1804179600-1804183200@iueclocal23.org
SUMMARY:Executive Board Meeting
DESCRIPTION:
URL:https://iueclocal23.org/event/executive-board-meeting-2025-11-13/2027-03-04/
LOCATION:Local 23\, 11145 NE Sandy Blvd.\, Portland\, OR\, 97220\, United States
GEO:45.5587853;-122.5482604
X-APPLE-STRUCTURED-LOCATION;VALUE=URI;X-ADDRESS=Local 23 11145 NE Sandy Blvd. Portland OR 97220 United States;X-APPLE-RADIUS=500;X-TITLE=11145 NE Sandy Blvd.:geo:-122.5482604,45.5587853
END:VEVENT
BEGIN:VEVENT
DTSTART;TZID=UTC:20270311T180000
DTEND;TZID=UTC:20270311T200000
DTSTAMP:20260421T203307
CREATED:20251010T220234Z
LAST-MODIFIED:20251010T220234Z
UID:4679-1804788000-1804795200@iueclocal23.org
SUMMARY:Union Meeting
DESCRIPTION:
URL:https://iueclocal23.org/event/union-meeting-2/2027-03-11/
LOCATION:Local 23\, 11145 NE Sandy Blvd.\, Portland\, OR\, 97220\, United States
CATEGORIES:default
GEO:45.5587853;-122.5482604
X-APPLE-STRUCTURED-LOCATION;VALUE=URI;X-ADDRESS=Local 23 11145 NE Sandy Blvd. Portland OR 97220 United States;X-APPLE-RADIUS=500;X-TITLE=11145 NE Sandy Blvd.:geo:-122.5482604,45.5587853
END:VEVENT
BEGIN:VEVENT
DTSTART;TZID=UTC:20270401T170000
DTEND;TZID=UTC:20270401T180000
DTSTAMP:20260421T203307
CREATED:20251010T215104Z
LAST-MODIFIED:20251010T215104Z
UID:4896-1806598800-1806602400@iueclocal23.org
SUMMARY:Executive Board Meeting
DESCRIPTION:
URL:https://iueclocal23.org/event/executive-board-meeting-2025-11-13/2027-04-01/
LOCATION:Local 23\, 11145 NE Sandy Blvd.\, Portland\, OR\, 97220\, United States
GEO:45.5587853;-122.5482604
X-APPLE-STRUCTURED-LOCATION;VALUE=URI;X-ADDRESS=Local 23 11145 NE Sandy Blvd. Portland OR 97220 United States;X-APPLE-RADIUS=500;X-TITLE=11145 NE Sandy Blvd.:geo:-122.5482604,45.5587853
END:VEVENT
BEGIN:VEVENT
DTSTART;TZID=UTC:20270408T180000
DTEND;TZID=UTC:20270408T200000
DTSTAMP:20260421T203307
CREATED:20251010T220233Z
LAST-MODIFIED:20251010T220233Z
UID:4680-1807207200-1807214400@iueclocal23.org
SUMMARY:Union Meeting
DESCRIPTION:
URL:https://iueclocal23.org/event/union-meeting-2/2027-04-08/
LOCATION:Local 23\, 11145 NE Sandy Blvd.\, Portland\, OR\, 97220\, United States
CATEGORIES:default
GEO:45.5587853;-122.5482604
X-APPLE-STRUCTURED-LOCATION;VALUE=URI;X-ADDRESS=Local 23 11145 NE Sandy Blvd. Portland OR 97220 United States;X-APPLE-RADIUS=500;X-TITLE=11145 NE Sandy Blvd.:geo:-122.5482604,45.5587853
END:VEVENT
BEGIN:VEVENT
DTSTART;TZID=UTC:20270506T170000
DTEND;TZID=UTC:20270506T180000
DTSTAMP:20260421T203307
CREATED:20251010T215104Z
LAST-MODIFIED:20251010T215104Z
UID:4897-1809622800-1809626400@iueclocal23.org
SUMMARY:Executive Board Meeting
DESCRIPTION:
URL:https://iueclocal23.org/event/executive-board-meeting-2025-11-13/2027-05-06/
LOCATION:Local 23\, 11145 NE Sandy Blvd.\, Portland\, OR\, 97220\, United States
GEO:45.5587853;-122.5482604
X-APPLE-STRUCTURED-LOCATION;VALUE=URI;X-ADDRESS=Local 23 11145 NE Sandy Blvd. Portland OR 97220 United States;X-APPLE-RADIUS=500;X-TITLE=11145 NE Sandy Blvd.:geo:-122.5482604,45.5587853
END:VEVENT
BEGIN:VEVENT
DTSTART;TZID=UTC:20270513T180000
DTEND;TZID=UTC:20270513T200000
DTSTAMP:20260421T203307
CREATED:20251010T220233Z
LAST-MODIFIED:20251010T220233Z
UID:4681-1810231200-1810238400@iueclocal23.org
SUMMARY:Union Meeting
DESCRIPTION:
URL:https://iueclocal23.org/event/union-meeting-2/2027-05-13/
LOCATION:Local 23\, 11145 NE Sandy Blvd.\, Portland\, OR\, 97220\, United States
CATEGORIES:default
GEO:45.5587853;-122.5482604
X-APPLE-STRUCTURED-LOCATION;VALUE=URI;X-ADDRESS=Local 23 11145 NE Sandy Blvd. Portland OR 97220 United States;X-APPLE-RADIUS=500;X-TITLE=11145 NE Sandy Blvd.:geo:-122.5482604,45.5587853
END:VEVENT
END:VCALENDAR