BEGIN:VCALENDAR
VERSION:2.0
PRODID:-//Local 23 - ECPv6.15.18//NONSGML v1.0//EN
CALSCALE:GREGORIAN
METHOD:PUBLISH
X-ORIGINAL-URL:https://iueclocal23.org
X-WR-CALDESC:Events for Local 23
REFRESH-INTERVAL;VALUE=DURATION:PT1H
X-Robots-Tag:noindex
X-PUBLISHED-TTL:PT1H
BEGIN:VTIMEZONE
TZID:UTC
BEGIN:STANDARD
TZOFFSETFROM:+0000
TZOFFSETTO:+0000
TZNAME:UTC
DTSTART:20260101T000000
END:STANDARD
END:VTIMEZONE
BEGIN:VEVENT
DTSTART;TZID=UTC:20270812T180000
DTEND;TZID=UTC:20270812T200000
DTSTAMP:20260422T015946
CREATED:20251010T220232Z
LAST-MODIFIED:20251010T220232Z
UID:4734-1818093600-1818100800@iueclocal23.org
SUMMARY:Union Meeting
DESCRIPTION:
URL:https://iueclocal23.org/event/union-meeting-2/2027-08-12/
LOCATION:Local 23\, 11145 NE Sandy Blvd.\, Portland\, OR\, 97220\, United States
CATEGORIES:default
GEO:45.5587853;-122.5482604
X-APPLE-STRUCTURED-LOCATION;VALUE=URI;X-ADDRESS=Local 23 11145 NE Sandy Blvd. Portland OR 97220 United States;X-APPLE-RADIUS=500;X-TITLE=11145 NE Sandy Blvd.:geo:-122.5482604,45.5587853
END:VEVENT
BEGIN:VEVENT
DTSTART;TZID=UTC:20270902T170000
DTEND;TZID=UTC:20270902T180000
DTSTAMP:20260422T015946
CREATED:20251010T215104Z
LAST-MODIFIED:20251010T215104Z
UID:4901-1819904400-1819908000@iueclocal23.org
SUMMARY:Executive Board Meeting
DESCRIPTION:
URL:https://iueclocal23.org/event/executive-board-meeting-2025-11-13/2027-09-02/
LOCATION:Local 23\, 11145 NE Sandy Blvd.\, Portland\, OR\, 97220\, United States
GEO:45.5587853;-122.5482604
X-APPLE-STRUCTURED-LOCATION;VALUE=URI;X-ADDRESS=Local 23 11145 NE Sandy Blvd. Portland OR 97220 United States;X-APPLE-RADIUS=500;X-TITLE=11145 NE Sandy Blvd.:geo:-122.5482604,45.5587853
END:VEVENT
BEGIN:VEVENT
DTSTART;TZID=UTC:20270909T180000
DTEND;TZID=UTC:20270909T200000
DTSTAMP:20260422T015946
CREATED:20251010T220232Z
LAST-MODIFIED:20251010T220232Z
UID:4735-1820512800-1820520000@iueclocal23.org
SUMMARY:Union Meeting
DESCRIPTION:
URL:https://iueclocal23.org/event/union-meeting-2/2027-09-09/
LOCATION:Local 23\, 11145 NE Sandy Blvd.\, Portland\, OR\, 97220\, United States
CATEGORIES:default
GEO:45.5587853;-122.5482604
X-APPLE-STRUCTURED-LOCATION;VALUE=URI;X-ADDRESS=Local 23 11145 NE Sandy Blvd. Portland OR 97220 United States;X-APPLE-RADIUS=500;X-TITLE=11145 NE Sandy Blvd.:geo:-122.5482604,45.5587853
END:VEVENT
BEGIN:VEVENT
DTSTART;TZID=UTC:20271007T170000
DTEND;TZID=UTC:20271007T180000
DTSTAMP:20260422T015946
CREATED:20251010T215104Z
LAST-MODIFIED:20251010T215104Z
UID:4902-1822928400-1822932000@iueclocal23.org
SUMMARY:Executive Board Meeting
DESCRIPTION:
URL:https://iueclocal23.org/event/executive-board-meeting-2025-11-13/2027-10-07/
LOCATION:Local 23\, 11145 NE Sandy Blvd.\, Portland\, OR\, 97220\, United States
GEO:45.5587853;-122.5482604
X-APPLE-STRUCTURED-LOCATION;VALUE=URI;X-ADDRESS=Local 23 11145 NE Sandy Blvd. Portland OR 97220 United States;X-APPLE-RADIUS=500;X-TITLE=11145 NE Sandy Blvd.:geo:-122.5482604,45.5587853
END:VEVENT
BEGIN:VEVENT
DTSTART;TZID=UTC:20271104T170000
DTEND;TZID=UTC:20271104T180000
DTSTAMP:20260422T015946
CREATED:20251010T215104Z
LAST-MODIFIED:20251010T215104Z
UID:4903-1825347600-1825351200@iueclocal23.org
SUMMARY:Executive Board Meeting
DESCRIPTION:
URL:https://iueclocal23.org/event/executive-board-meeting-2025-11-13/2027-11-04/
LOCATION:Local 23\, 11145 NE Sandy Blvd.\, Portland\, OR\, 97220\, United States
GEO:45.5587853;-122.5482604
X-APPLE-STRUCTURED-LOCATION;VALUE=URI;X-ADDRESS=Local 23 11145 NE Sandy Blvd. Portland OR 97220 United States;X-APPLE-RADIUS=500;X-TITLE=11145 NE Sandy Blvd.:geo:-122.5482604,45.5587853
END:VEVENT
BEGIN:VEVENT
DTSTART;TZID=UTC:20271202T170000
DTEND;TZID=UTC:20271202T180000
DTSTAMP:20260422T015946
CREATED:20251010T215104Z
LAST-MODIFIED:20251010T215104Z
UID:4904-1827766800-1827770400@iueclocal23.org
SUMMARY:Executive Board Meeting
DESCRIPTION:
URL:https://iueclocal23.org/event/executive-board-meeting-2025-11-13/2027-12-02/
LOCATION:Local 23\, 11145 NE Sandy Blvd.\, Portland\, OR\, 97220\, United States
GEO:45.5587853;-122.5482604
X-APPLE-STRUCTURED-LOCATION;VALUE=URI;X-ADDRESS=Local 23 11145 NE Sandy Blvd. Portland OR 97220 United States;X-APPLE-RADIUS=500;X-TITLE=11145 NE Sandy Blvd.:geo:-122.5482604,45.5587853
END:VEVENT
BEGIN:VEVENT
DTSTART;TZID=UTC:20280106T170000
DTEND;TZID=UTC:20280106T180000
DTSTAMP:20260422T015946
CREATED:20251010T215104Z
LAST-MODIFIED:20251010T215104Z
UID:4905-1830790800-1830794400@iueclocal23.org
SUMMARY:Executive Board Meeting
DESCRIPTION:
URL:https://iueclocal23.org/event/executive-board-meeting-2025-11-13/2028-01-06/
LOCATION:Local 23\, 11145 NE Sandy Blvd.\, Portland\, OR\, 97220\, United States
GEO:45.5587853;-122.5482604
X-APPLE-STRUCTURED-LOCATION;VALUE=URI;X-ADDRESS=Local 23 11145 NE Sandy Blvd. Portland OR 97220 United States;X-APPLE-RADIUS=500;X-TITLE=11145 NE Sandy Blvd.:geo:-122.5482604,45.5587853
END:VEVENT
BEGIN:VEVENT
DTSTART;TZID=UTC:20280203T170000
DTEND;TZID=UTC:20280203T180000
DTSTAMP:20260422T015946
CREATED:20251010T215104Z
LAST-MODIFIED:20251010T215104Z
UID:4906-1833210000-1833213600@iueclocal23.org
SUMMARY:Executive Board Meeting
DESCRIPTION:
URL:https://iueclocal23.org/event/executive-board-meeting-2025-11-13/2028-02-03/
LOCATION:Local 23\, 11145 NE Sandy Blvd.\, Portland\, OR\, 97220\, United States
GEO:45.5587853;-122.5482604
X-APPLE-STRUCTURED-LOCATION;VALUE=URI;X-ADDRESS=Local 23 11145 NE Sandy Blvd. Portland OR 97220 United States;X-APPLE-RADIUS=500;X-TITLE=11145 NE Sandy Blvd.:geo:-122.5482604,45.5587853
END:VEVENT
BEGIN:VEVENT
DTSTART;TZID=UTC:20280302T170000
DTEND;TZID=UTC:20280302T180000
DTSTAMP:20260422T015946
CREATED:20251010T215104Z
LAST-MODIFIED:20251010T215104Z
UID:4907-1835629200-1835632800@iueclocal23.org
SUMMARY:Executive Board Meeting
DESCRIPTION:
URL:https://iueclocal23.org/event/executive-board-meeting-2025-11-13/2028-03-02/
LOCATION:Local 23\, 11145 NE Sandy Blvd.\, Portland\, OR\, 97220\, United States
GEO:45.5587853;-122.5482604
X-APPLE-STRUCTURED-LOCATION;VALUE=URI;X-ADDRESS=Local 23 11145 NE Sandy Blvd. Portland OR 97220 United States;X-APPLE-RADIUS=500;X-TITLE=11145 NE Sandy Blvd.:geo:-122.5482604,45.5587853
END:VEVENT
END:VCALENDAR