BEGIN:VCALENDAR
VERSION:2.0
PRODID:-//Local 23 - ECPv6.15.18//NONSGML v1.0//EN
CALSCALE:GREGORIAN
METHOD:PUBLISH
X-WR-CALNAME:Local 23
X-ORIGINAL-URL:https://iueclocal23.org
X-WR-CALDESC:Events for Local 23
REFRESH-INTERVAL;VALUE=DURATION:PT1H
X-Robots-Tag:noindex
X-PUBLISHED-TTL:PT1H
BEGIN:VTIMEZONE
TZID:UTC
BEGIN:STANDARD
TZOFFSETFROM:+0000
TZOFFSETTO:+0000
TZNAME:UTC
DTSTART:20250101T000000
END:STANDARD
END:VTIMEZONE
BEGIN:VEVENT
DTSTART;TZID=UTC:20260507T170000
DTEND;TZID=UTC:20260507T180000
DTSTAMP:20260421T205440
CREATED:20251010T215104Z
LAST-MODIFIED:20251010T215104Z
UID:4885-1778173200-1778176800@iueclocal23.org
SUMMARY:Executive Board Meeting
DESCRIPTION:
URL:https://iueclocal23.org/event/executive-board-meeting-2025-11-13/2026-05-07/
LOCATION:Local 23\, 11145 NE Sandy Blvd.\, Portland\, OR\, 97220\, United States
GEO:45.5587853;-122.5482604
X-APPLE-STRUCTURED-LOCATION;VALUE=URI;X-ADDRESS=Local 23 11145 NE Sandy Blvd. Portland OR 97220 United States;X-APPLE-RADIUS=500;X-TITLE=11145 NE Sandy Blvd.:geo:-122.5482604,45.5587853
END:VEVENT
BEGIN:VEVENT
DTSTART;TZID=UTC:20260514T180000
DTEND;TZID=UTC:20260514T200000
DTSTAMP:20260421T205440
CREATED:20251010T220340Z
LAST-MODIFIED:20251010T220340Z
UID:4668-1778781600-1778788800@iueclocal23.org
SUMMARY:Union Meeting
DESCRIPTION:
URL:https://iueclocal23.org/event/union-meeting-2/2026-05-14/
LOCATION:Local 23\, 11145 NE Sandy Blvd.\, Portland\, OR\, 97220\, United States
CATEGORIES:default
GEO:45.5587853;-122.5482604
X-APPLE-STRUCTURED-LOCATION;VALUE=URI;X-ADDRESS=Local 23 11145 NE Sandy Blvd. Portland OR 97220 United States;X-APPLE-RADIUS=500;X-TITLE=11145 NE Sandy Blvd.:geo:-122.5482604,45.5587853
END:VEVENT
END:VCALENDAR