BEGIN:VCALENDAR
VERSION:2.0
PRODID:-//Local 23 - ECPv6.15.18//NONSGML v1.0//EN
CALSCALE:GREGORIAN
METHOD:PUBLISH
X-ORIGINAL-URL:https://iueclocal23.org
X-WR-CALDESC:Events for Local 23
REFRESH-INTERVAL;VALUE=DURATION:PT1H
X-Robots-Tag:noindex
X-PUBLISHED-TTL:PT1H
BEGIN:VTIMEZONE
TZID:UTC
BEGIN:STANDARD
TZOFFSETFROM:+0000
TZOFFSETTO:+0000
TZNAME:UTC
DTSTART:20250101T000000
END:STANDARD
END:VTIMEZONE
BEGIN:VEVENT
DTSTART;TZID=UTC:20260702T170000
DTEND;TZID=UTC:20260702T180000
DTSTAMP:20260422T021910
CREATED:20251010T215104Z
LAST-MODIFIED:20251010T215104Z
UID:4887-1783011600-1783015200@iueclocal23.org
SUMMARY:Executive Board Meeting
DESCRIPTION:
URL:https://iueclocal23.org/event/executive-board-meeting-2025-11-13/2026-07-02/
LOCATION:Local 23\, 11145 NE Sandy Blvd.\, Portland\, OR\, 97220\, United States
GEO:45.5587853;-122.5482604
X-APPLE-STRUCTURED-LOCATION;VALUE=URI;X-ADDRESS=Local 23 11145 NE Sandy Blvd. Portland OR 97220 United States;X-APPLE-RADIUS=500;X-TITLE=11145 NE Sandy Blvd.:geo:-122.5482604,45.5587853
END:VEVENT
BEGIN:VEVENT
DTSTART;TZID=UTC:20260709T180000
DTEND;TZID=UTC:20260709T200000
DTSTAMP:20260422T021910
CREATED:20251010T220339Z
LAST-MODIFIED:20251010T220339Z
UID:4670-1783620000-1783627200@iueclocal23.org
SUMMARY:Union Meeting
DESCRIPTION:
URL:https://iueclocal23.org/event/union-meeting-2/2026-07-09/
LOCATION:Local 23\, 11145 NE Sandy Blvd.\, Portland\, OR\, 97220\, United States
CATEGORIES:default
GEO:45.5587853;-122.5482604
X-APPLE-STRUCTURED-LOCATION;VALUE=URI;X-ADDRESS=Local 23 11145 NE Sandy Blvd. Portland OR 97220 United States;X-APPLE-RADIUS=500;X-TITLE=11145 NE Sandy Blvd.:geo:-122.5482604,45.5587853
END:VEVENT
BEGIN:VEVENT
DTSTART;TZID=UTC:20260718T120000
DTEND;TZID=UTC:20260718T130000
DTSTAMP:20260422T021910
CREATED:20251010T220339Z
LAST-MODIFIED:20251010T220339Z
UID:4468-1784376000-1784379600@iueclocal23.org
SUMMARY:Local 23 Picnic
DESCRIPTION:
URL:https://iueclocal23.org/event/local-23-picnic/
LOCATION:Local 23\, 11145 NE Sandy Blvd.\, Portland\, OR\, 97220\, United States
GEO:45.5587853;-122.5482604
X-APPLE-STRUCTURED-LOCATION;VALUE=URI;X-ADDRESS=Local 23 11145 NE Sandy Blvd. Portland OR 97220 United States;X-APPLE-RADIUS=500;X-TITLE=11145 NE Sandy Blvd.:geo:-122.5482604,45.5587853
END:VEVENT
END:VCALENDAR